BEGIN:VCALENDAR
VERSION:2.0
PRODID:-//Squarespace Inc/Squarespace 6//v6//EN
BEGIN:VEVENT
UID:5d9d2582fe986b0083e60427@squarespace.com
DTSTAMP:20191009T012138Z
DTSTART:20191013T140000Z
DTEND:20191013T210000Z
SUMMARY:Geurie Golden Collar Working Dog Auction 
END:VEVENT
END:VCALENDAR
