BEGIN:VCALENDAR
VERSION:2.0
PRODID:-//Squarespace Inc/Squarespace 6//v6//EN
BEGIN:VEVENT
UID:5f0d4307a3148f0ff2aeadca@squarespace.com
DTSTAMP:20200714T053217Z
DTSTART:20200717T010000Z
DTEND:20200717T060000Z
SUMMARY:Dubbo Store Cattle Sale 
END:VEVENT
END:VCALENDAR
