BEGIN:VCALENDAR
VERSION:2.0
PRODID:-//Squarespace Inc/Squarespace 6//v6//EN
BEGIN:VEVENT
UID:5f90febb43e34c13f596e0be@squarespace.com
DTSTAMP:20201028T014331Z
DTSTART:20201030T230000Z
DTEND:20201031T060000Z
SUMMARY:Clearing Sale A/C PJ &amp\; V Bourke of Nyngan
END:VEVENT
END:VCALENDAR
