BEGIN:VCALENDAR
VERSION:2.0
PRODID:-//Squarespace Inc/Squarespace 6//v6//EN
BEGIN:VEVENT
UID:5e5ef59942e056080e8409cf@squarespace.com
DTSTAMP:20200317T235902Z
DTSTART:20200320T230000Z
DTEND:20200321T030000Z
SUMMARY:*** POSTPONED** CLEARING SALE (10am Start) ON BEHALF OF THE LEASEE 
 (GL &amp\; ME Frankham) “GLENROY” BALLIMORE 
END:VEVENT
END:VCALENDAR
