BEGIN:VCALENDAR
VERSION:2.0
PRODID:-//Squarespace Inc/Squarespace 6//v6//EN
BEGIN:VEVENT
UID:5cd8b6bcec212dad33557231@squarespace.com
DTSTAMP:20190513T001525Z
DTSTART:20190517T123000Z
DTEND:20190517T203000Z
SUMMARY:Cattle Store Sales
END:VEVENT
END:VCALENDAR
