BEGIN:VCALENDAR
VERSION:2.0
PRODID:-//Squarespace Inc/Squarespace 6//v6//EN
BEGIN:VEVENT
UID:5e7c313b1fa3014a5add1b77@squarespace.com
DTSTAMP:20200326T044008Z
DTSTART:20200326T230000Z
DTEND:20200327T050000Z
SUMMARY: Auctions Plus Eastern Weaner &amp\; Yearling Sales commencing at 1
 0.00am "Dumossa" Coonamble
END:VEVENT
END:VCALENDAR
